BEGIN:VCALENDAR
PRODID:-//eluceo/ical//2.0/EN
VERSION:2.0
CALSCALE:GREGORIAN
BEGIN:VEVENT
UID:b65f94646daa4daeb4a17a2a1d914ab7
DTSTAMP:20260421T132748Z
SUMMARY:Ärztefortbildung "Frau und Psyche"
URL:https://onkologie.insel.ch/de/veranstaltungen/details/detail/aerztefort
 bildung-frau-und-psyche
DTSTART;TZID=+02:00:20260423T150000
DTEND;TZID=+02:00:20260423T180000
LOCATION:Auditorium Maurice E. Müller\, Rosenbühlgasse 25\, Inselspital\,
  3010 Bern
END:VEVENT
END:VCALENDAR
